BEGIN:VCALENDAR
VERSION:2.0
PRODID:-//Atlanta Branch - RSCDS - ECPv6.15.20//NONSGML v1.0//EN
CALSCALE:GREGORIAN
METHOD:PUBLISH
X-ORIGINAL-URL:https://rscds-atlanta.org
X-WR-CALDESC:Events for Atlanta Branch - RSCDS
REFRESH-INTERVAL;VALUE=DURATION:PT1H
X-Robots-Tag:noindex
X-PUBLISHED-TTL:PT1H
BEGIN:VTIMEZONE
TZID:America/New_York
BEGIN:DAYLIGHT
TZOFFSETFROM:-0500
TZOFFSETTO:-0400
TZNAME:EDT
DTSTART:20250309T070000
END:DAYLIGHT
BEGIN:STANDARD
TZOFFSETFROM:-0400
TZOFFSETTO:-0500
TZNAME:EST
DTSTART:20251102T060000
END:STANDARD
BEGIN:DAYLIGHT
TZOFFSETFROM:-0500
TZOFFSETTO:-0400
TZNAME:EDT
DTSTART:20260308T070000
END:DAYLIGHT
BEGIN:STANDARD
TZOFFSETFROM:-0400
TZOFFSETTO:-0500
TZNAME:EST
DTSTART:20261101T060000
END:STANDARD
BEGIN:DAYLIGHT
TZOFFSETFROM:-0500
TZOFFSETTO:-0400
TZNAME:EDT
DTSTART:20270314T070000
END:DAYLIGHT
BEGIN:STANDARD
TZOFFSETFROM:-0400
TZOFFSETTO:-0500
TZNAME:EST
DTSTART:20271107T060000
END:STANDARD
END:VTIMEZONE
BEGIN:VEVENT
DTSTART;TZID=America/New_York:20260912T140000
DTEND;TZID=America/New_York:20260912T160000
DTSTAMP:20260423T145107
CREATED:20260413T120150Z
LAST-MODIFIED:20260413T121143Z
UID:24776-1789221600-1789228800@rscds-atlanta.org
SUMMARY:September 2026 Social
DESCRIPTION:More details will be added closer to time.
URL:https://rscds-atlanta.org/event/september-2026-social/
LOCATION:Heritage Baptist Church Cartersville\, 1070 Douthit Ferry Rd.\, Cartersville\, GA\, 30120\, United States
CATEGORIES:Monthly Socials
END:VEVENT
BEGIN:VEVENT
DTSTART;VALUE=DATE:20260918
DTEND;VALUE=DATE:20260921
DTSTAMP:20260423T145107
CREATED:20260413T121830Z
LAST-MODIFIED:20260413T122423Z
UID:24785-1789689600-1789948799@rscds-atlanta.org
SUMMARY:Scottish Weekend 2026
DESCRIPTION:Details are still being published.  Check https://scottishweekend.org/ for the latest.
URL:https://rscds-atlanta.org/event/scottish-weekend-2026/
LOCATION:Camp Saginaw\, 740 Saginaw Road\, Oxfords\, PA\, 19363\, United States
CATEGORIES:Other SCD Events,Workshop
END:VEVENT
END:VCALENDAR