BEGIN:VCALENDAR
VERSION:2.0
PRODID:-//Atlanta Branch - RSCDS - ECPv6.15.20//NONSGML v1.0//EN
CALSCALE:GREGORIAN
METHOD:PUBLISH
X-WR-CALNAME:Atlanta Branch - RSCDS
X-ORIGINAL-URL:https://rscds-atlanta.org
X-WR-CALDESC:Events for Atlanta Branch - RSCDS
REFRESH-INTERVAL;VALUE=DURATION:PT1H
X-Robots-Tag:noindex
X-PUBLISHED-TTL:PT1H
BEGIN:VTIMEZONE
TZID:America/New_York
BEGIN:DAYLIGHT
TZOFFSETFROM:-0500
TZOFFSETTO:-0400
TZNAME:EDT
DTSTART:20220313T070000
END:DAYLIGHT
BEGIN:STANDARD
TZOFFSETFROM:-0400
TZOFFSETTO:-0500
TZNAME:EST
DTSTART:20221106T060000
END:STANDARD
BEGIN:DAYLIGHT
TZOFFSETFROM:-0500
TZOFFSETTO:-0400
TZNAME:EDT
DTSTART:20230312T070000
END:DAYLIGHT
BEGIN:STANDARD
TZOFFSETFROM:-0400
TZOFFSETTO:-0500
TZNAME:EST
DTSTART:20231105T060000
END:STANDARD
BEGIN:DAYLIGHT
TZOFFSETFROM:-0500
TZOFFSETTO:-0400
TZNAME:EDT
DTSTART:20240310T070000
END:DAYLIGHT
BEGIN:STANDARD
TZOFFSETFROM:-0400
TZOFFSETTO:-0500
TZNAME:EST
DTSTART:20241103T060000
END:STANDARD
END:VTIMEZONE
BEGIN:VEVENT
DTSTART;TZID=America/New_York:20231112T150000
DTEND;TZID=America/New_York:20231112T170000
DTSTAMP:20260425T175648
CREATED:20230811T230231Z
LAST-MODIFIED:20231019T134659Z
UID:23900-1699801200-1699808400@rscds-atlanta.org
SUMMARY:November 2023 Social
DESCRIPTION:Program for the day is: \n*Alice’s Request 32J2/4\nSleepwalking 32R3/4\nRed\, Red Rose 32S3/4\nMagic Green Ghillies 40J3/4 By Shannon Rainey\n*Irish Rover 32R3/4\n—–Intermission—–\n*The Happy Meeting 32J2/4\n1314 M (S64+R64) Sq Set\nMount Pinatubo 32R3/4 By Deborah Millier\n*Gypsy Weaver 32S3/4\n*Mairi’s Wedding 40R3/4 \n*2019 & 2020 Core Dances \nDance list on strathspey server with cribs\, diagrams\, and videos
URL:https://rscds-atlanta.org/event/november-2023-social/
LOCATION:Nations Church\, 8780 Macon Hwy\, Athens\, GA\, 30606\, US
END:VEVENT
END:VCALENDAR