BEGIN:VCALENDAR
VERSION:2.0
PRODID:-//Atlanta Branch - RSCDS - ECPv6.15.20//NONSGML v1.0//EN
CALSCALE:GREGORIAN
METHOD:PUBLISH
X-ORIGINAL-URL:https://rscds-atlanta.org
X-WR-CALDESC:Events for Atlanta Branch - RSCDS
REFRESH-INTERVAL;VALUE=DURATION:PT1H
X-Robots-Tag:noindex
X-PUBLISHED-TTL:PT1H
BEGIN:VTIMEZONE
TZID:America/New_York
BEGIN:DAYLIGHT
TZOFFSETFROM:-0500
TZOFFSETTO:-0400
TZNAME:EDT
DTSTART:20220313T070000
END:DAYLIGHT
BEGIN:STANDARD
TZOFFSETFROM:-0400
TZOFFSETTO:-0500
TZNAME:EST
DTSTART:20221106T060000
END:STANDARD
BEGIN:DAYLIGHT
TZOFFSETFROM:-0500
TZOFFSETTO:-0400
TZNAME:EDT
DTSTART:20230312T070000
END:DAYLIGHT
BEGIN:STANDARD
TZOFFSETFROM:-0400
TZOFFSETTO:-0500
TZNAME:EST
DTSTART:20231105T060000
END:STANDARD
BEGIN:DAYLIGHT
TZOFFSETFROM:-0500
TZOFFSETTO:-0400
TZNAME:EDT
DTSTART:20240310T070000
END:DAYLIGHT
BEGIN:STANDARD
TZOFFSETFROM:-0400
TZOFFSETTO:-0500
TZNAME:EST
DTSTART:20241103T060000
END:STANDARD
END:VTIMEZONE
BEGIN:VEVENT
DTSTART;TZID=America/New_York:20230813T150000
DTEND;TZID=America/New_York:20230813T170000
DTSTAMP:20260426T003458
CREATED:20230108T154012Z
LAST-MODIFIED:20230811T225823Z
UID:23776-1691938800-1691946000@rscds-atlanta.org
SUMMARY:August 2023 Social
DESCRIPTION:$5 to join.  Please bring finger food to share.  Water and punch will be provided. \nAugust 2023 Social Flyer \nDance Cribs \nDance list on Strathspey Server \n  \n\n\n\nLevel\nDance\nLength/Style\nDevisor/Publication\n\n\n\n\nI\nAlison’s Round Reel\nR5x32 Round the Room\nAlex Gray\, Tweeddale Collection 2\n\n\nB\nThe Dillsburg Jig\nJ8x32 – 3C/4C Set\nS. Tang\, Performance Dancing\n\n\nE\nThe Dundee City Police Jig\nJ6x16 – 5C Set\nJ. Mitchell\, Whetherly Book 2\n\n\nI\nThe Lea Rig\nS6/8×32 – 2C/3 or 4C Set\nRSCDS Book 21\n\n\nB\nMiss Allie Anderson\nJ8x32 – 3C/4C Set\nMina Corson\, RSCDS Leaflet Dances 16\n\n\nB\nThe Saint John River\nS4x32 – 4C Set\nPrudence Edwards\, New Brunswick Collection\n\n\nI\nThe Clumsy Lover\nR8/10×32 – 3C/4 or 5C Set\nIain Garden Richardson\, Book 53\n\n\nIntermission\n\n\nB\nLady Catherine Bruce’s Reel\nJ8x32 – 2C/4C Set\nBook of Graded SCD’s\n\n\nI\nJ. B. Milne\nR8x32 – 3C/4C Set\nHugh Foss\, Angus Fitchett Album\n\n\nI\nCulla Bay\nS4x32 – Square Set\nAnn Dix\, RSCDS Book 41\n\n\nB\nThe Reel of the 51st Division\nR8x32 -3C/4C Set\nJimmy Atkinson\, RSCDS Book 13\n\n\nE\nWhiteadder Jig\nJ8x32 – 3C/4C Set\nMuriel A Johnstone\, Whiteadder Collection\n\n\nB\nSeann Triubhas Willichan\nS8x32 – 2C/4C Set\nThomas Wilson (18C)\, RSCDS Book 27\n\n\nI\nMontréal Rendezvous\nR8x32 – 3C/4C Set\nG. Dale Birdsall\, Montréal Moments\n\n\nExtra\n\n\nE\nFollow Me Home\nJ8x32 – 3C/4C Set\nEllie Briscoe\, RSCDS Book 38
URL:https://rscds-atlanta.org/event/august-2023-social/
LOCATION:Shallowford Presbyterian\, 2375 Shallowford Road\, Atlanta\, GA\, 30345\, United States
CATEGORIES:Monthly Socials
END:VEVENT
END:VCALENDAR