BEGIN:VCALENDAR
VERSION:2.0
PRODID:-//Atlanta Branch - RSCDS - ECPv6.15.20//NONSGML v1.0//EN
CALSCALE:GREGORIAN
METHOD:PUBLISH
X-WR-CALNAME:Atlanta Branch - RSCDS
X-ORIGINAL-URL:https://rscds-atlanta.org
X-WR-CALDESC:Events for Atlanta Branch - RSCDS
REFRESH-INTERVAL;VALUE=DURATION:PT1H
X-Robots-Tag:noindex
X-PUBLISHED-TTL:PT1H
BEGIN:VTIMEZONE
TZID:America/New_York
BEGIN:DAYLIGHT
TZOFFSETFROM:-0500
TZOFFSETTO:-0400
TZNAME:EDT
DTSTART:20250309T070000
END:DAYLIGHT
BEGIN:STANDARD
TZOFFSETFROM:-0400
TZOFFSETTO:-0500
TZNAME:EST
DTSTART:20251102T060000
END:STANDARD
BEGIN:DAYLIGHT
TZOFFSETFROM:-0500
TZOFFSETTO:-0400
TZNAME:EDT
DTSTART:20260308T070000
END:DAYLIGHT
BEGIN:STANDARD
TZOFFSETFROM:-0400
TZOFFSETTO:-0500
TZNAME:EST
DTSTART:20261101T060000
END:STANDARD
BEGIN:DAYLIGHT
TZOFFSETFROM:-0500
TZOFFSETTO:-0400
TZNAME:EDT
DTSTART:20270314T070000
END:DAYLIGHT
BEGIN:STANDARD
TZOFFSETFROM:-0400
TZOFFSETTO:-0500
TZNAME:EST
DTSTART:20271107T060000
END:STANDARD
END:VTIMEZONE
BEGIN:VEVENT
DTSTART;TZID=America/New_York:20261115T143000
DTEND;TZID=America/New_York:20261115T170000
DTSTAMP:20260423T200704
CREATED:20260413T120346Z
LAST-MODIFIED:20260413T120346Z
UID:24778-1794753000-1794762000@rscds-atlanta.org
SUMMARY:November 2026 Social
DESCRIPTION:More details will be added closer to time.
URL:https://rscds-atlanta.org/event/november-2026-social/
LOCATION:Nations Church\, 8780 Macon Highway\, Athens\, GA\, 30606\, United States
CATEGORIES:Monthly Socials
END:VEVENT
BEGIN:VEVENT
DTSTART;TZID=America/New_York:20261121T180000
DTEND;TZID=America/New_York:20261121T210000
DTSTAMP:20260423T200704
CREATED:20260413T120929Z
LAST-MODIFIED:20260413T120929Z
UID:24780-1795284000-1795294800@rscds-atlanta.org
SUMMARY:St. Andrews Day Dance
DESCRIPTION:More details will be added closer to time.
URL:https://rscds-atlanta.org/event/st-andrews-day-dance/
LOCATION:First Presbyterian Church Greensboro\, 617 North Elm Street\, Greensboro\, NC\, 27401\, United States
CATEGORIES:Other SCD Events
ORGANIZER;CN="RSCDS Carolinas":MAILTO:thecarolinasbranch@gmail.com
END:VEVENT
BEGIN:VEVENT
DTSTART;TZID=America/New_York:20261213T143000
DTEND;TZID=America/New_York:20261213T170000
DTSTAMP:20260423T200704
CREATED:20260413T121105Z
LAST-MODIFIED:20260413T121105Z
UID:24783-1797172200-1797181200@rscds-atlanta.org
SUMMARY:December 2026 Social
DESCRIPTION:More details will be added closer to time.
URL:https://rscds-atlanta.org/event/december-2026-social/
LOCATION:Shallowford Presbyterian\, 2375 Shallowford Road\, Atlanta\, GA\, 30345\, United States
CATEGORIES:Monthly Socials
END:VEVENT
END:VCALENDAR