BEGIN:VCALENDAR
VERSION:2.0
PRODID:-//Atlanta Branch - RSCDS - ECPv6.15.20//NONSGML v1.0//EN
CALSCALE:GREGORIAN
METHOD:PUBLISH
X-WR-CALNAME:Atlanta Branch - RSCDS
X-ORIGINAL-URL:https://rscds-atlanta.org
X-WR-CALDESC:Events for Atlanta Branch - RSCDS
REFRESH-INTERVAL;VALUE=DURATION:PT1H
X-Robots-Tag:noindex
X-PUBLISHED-TTL:PT1H
BEGIN:VTIMEZONE
TZID:America/New_York
BEGIN:DAYLIGHT
TZOFFSETFROM:-0500
TZOFFSETTO:-0400
TZNAME:EDT
DTSTART:20180311T070000
END:DAYLIGHT
BEGIN:STANDARD
TZOFFSETFROM:-0400
TZOFFSETTO:-0500
TZNAME:EST
DTSTART:20181104T060000
END:STANDARD
BEGIN:DAYLIGHT
TZOFFSETFROM:-0500
TZOFFSETTO:-0400
TZNAME:EDT
DTSTART:20190310T070000
END:DAYLIGHT
BEGIN:STANDARD
TZOFFSETFROM:-0400
TZOFFSETTO:-0500
TZNAME:EST
DTSTART:20191103T060000
END:STANDARD
BEGIN:DAYLIGHT
TZOFFSETFROM:-0500
TZOFFSETTO:-0400
TZNAME:EDT
DTSTART:20200308T070000
END:DAYLIGHT
BEGIN:STANDARD
TZOFFSETFROM:-0400
TZOFFSETTO:-0500
TZNAME:EST
DTSTART:20201101T060000
END:STANDARD
END:VTIMEZONE
BEGIN:VEVENT
DTSTART;TZID=America/New_York:20191109T140000
DTEND;TZID=America/New_York:20191109T170000
DTSTAMP:20260424T122222
CREATED:20191027T234854Z
LAST-MODIFIED:20191111T032200Z
UID:118-1573308000-1573318800@rscds-atlanta.org
SUMMARY:November Social - Regency / Scottish Country Dancing
DESCRIPTION:Join us at our November Social\, featuring dances from the Eighteenth Century!\nYou are most cordially invited to a Scottish / Regency Era Dance from 2:00pm – 5:00pm on Saturday\, November 9\, 2019\, at St. Bede’s Episcopal at 2601 Henderson Mill Rd\, Atlanta\, GA 30345.  This special dance social will be held by the Atlanta Branch of the Royal Scottish Country Dance Society\, in concert with with Atlanta Baroque Dance\, and will feature some of the most popular Scottish dances from the late Eighteenth and early Nineteenth centuries\, including The Haymakers\, Monymusk\, The Machine Without Horses\,  Seann Truibhas Willichan\, and The Frisky.  The majority of dances are friendly for those with less dance experience.  Social Flyer and Cheat Sheet are both attached.\nJoin us and dance the afternoon away in Regency splendor!  The cost is $8 for admission ($5 for RSCDS members)\, and you are invited to bring finger foods or other light refreshments to share at intermission; Regency attire\, or traditional Scottish Highland attire (including kilts for men) is *highly* encouraged.\nNovember_Social_ 2019_Flyer\nNovember_Social_2019_Cheat_Sheet
URL:https://rscds-atlanta.org/event/november-social/
LOCATION:St. Bede’s Episcopal Church\, 2601 Henderson Mill Road\, Atlanta\, Ga\, 30345\, United States
CATEGORIES:Monthly Socials
END:VEVENT
END:VCALENDAR