BEGIN:VCALENDAR
VERSION:2.0
PRODID:-//Atlanta Branch - RSCDS - ECPv6.15.20//NONSGML v1.0//EN
CALSCALE:GREGORIAN
METHOD:PUBLISH
X-ORIGINAL-URL:https://rscds-atlanta.org
X-WR-CALDESC:Events for Atlanta Branch - RSCDS
REFRESH-INTERVAL;VALUE=DURATION:PT1H
X-Robots-Tag:noindex
X-PUBLISHED-TTL:PT1H
BEGIN:VTIMEZONE
TZID:America/New_York
BEGIN:DAYLIGHT
TZOFFSETFROM:-0500
TZOFFSETTO:-0400
TZNAME:EDT
DTSTART:20250309T070000
END:DAYLIGHT
BEGIN:STANDARD
TZOFFSETFROM:-0400
TZOFFSETTO:-0500
TZNAME:EST
DTSTART:20251102T060000
END:STANDARD
BEGIN:DAYLIGHT
TZOFFSETFROM:-0500
TZOFFSETTO:-0400
TZNAME:EDT
DTSTART:20260308T070000
END:DAYLIGHT
BEGIN:STANDARD
TZOFFSETFROM:-0400
TZOFFSETTO:-0500
TZNAME:EST
DTSTART:20261101T060000
END:STANDARD
BEGIN:DAYLIGHT
TZOFFSETFROM:-0500
TZOFFSETTO:-0400
TZNAME:EDT
DTSTART:20270314T070000
END:DAYLIGHT
BEGIN:STANDARD
TZOFFSETFROM:-0400
TZOFFSETTO:-0500
TZNAME:EST
DTSTART:20271107T060000
END:STANDARD
END:VTIMEZONE
BEGIN:VEVENT
DTSTART;TZID=America/New_York:20260411T120000
DTEND;TZID=America/New_York:20260411T150000
DTSTAMP:20260423T145652
CREATED:20260217T171424Z
LAST-MODIFIED:20260324T132532Z
UID:24709-1775908800-1775919600@rscds-atlanta.org
SUMMARY:April Social and Anniversary Luncheon
DESCRIPTION:  \nHello Dancers! \nThe Atlanta Branch of the Royal Scottish Country Dance Society is proud to celebrate it’s 50th anniversary this year! Since 1976\, we have all enjoyed the dancing\, but more importantly\, the laughter\, fellowship\, and fun\, that have followed. \nJust a few short weeks ago many of us danced together at the annual Spring Workshop\, made special with some added anniversary festivities. It was a wonderful event\, and we feel so grateful to everyone who attended and contributed to making it so successful. We approached 100 dancers\, unveiled our 50th anniversary book\, and connected with friends from far and near. \nTo continue our year of celebrations\, we are planning an Anniversary Luncheon\, and you are invited! In lieu of our normal April Social\, we will be hosting an extended event. We will meet in the fellowship hall at St. James’ Episcopal Church in Marietta at noon. The branch will be providing lunch\, and the normal social fee is waived for the occasion. We are hoping that any Atlanta dancer from the past 50 years will join us for the camaraderie. If you know any current or former dancers from the area\, please pass the invite along! \nAfter lunch\, we are hosting a social dance. The program\, devised by Susan Tumlin and Bob Messner\, features walkable dances\, old favorites\, and some new offerings from our 50th anniversary book (which will be available for anyone wanting to collect). Whether you choose to dance\, walk\, or watch\, it should be an enjoyable afternoon for everyone. \nWhile the Spring Workshop was a grand affair\, we are hoping this luncheon will provide a more intimate environment for Atlanta dancers to reconnect\, laugh\, and share memories. Whether it’s been a while since we’ve seen you or we saw you last week\, we hope you will attend- your presence is the best anniversary present! \nTo RSVP\, please contact Sylvia Priest by email (sapriest@comcast.net) \n  \n  \n\n\n\nDance\nSet/Size\nSource\n\n\n\n\nFriends: The Moth\, The Bat\, and the Pine Tree\nR8x32\nDeNeergaard\n\n\nSt. Andrew’s Fair\nJ8x32\nGoldring\n\n\nHooper’s Jig\nJ8x32\nMMM\n\n\nThe Byron Strathspey\nS3x32\nDeeside Book\, Part 2\n\n\nSylvia\, Priestess of Atlanta\nR8x32\nAtlanta 50th Anniv.\n\n\nThe White Heather Jig\nJ4x40\nBook 22\n\n\nThe White Heather Jig\nJ4x40\n22 Scottish Country Dances\n\n\nSugar Candie\nS8x32\nBook 26\n\n\nMairi’s Wedding\nR8x40\n22 Scottish Country Dances\n\n\n————-Intermission / Cake Break————-\n\n\nDr. Ligon of Marietta\nR8x40\nAtlanta 50th Anniv.\n\n\nThe Wild Geese\nJ8x32\nRSCDS Book 24\n\n\nThe Balgeddie Reel\nR5x32\nMemories of Fife\n\n\nCulla Bay\nS4x32 Sq.\nRSCDS Book 41\n\n\nJoined at the Hip\nR8x32\nAtlanta 50th Anniv.\n\n\nThe Deil amang the Tailors\nR8x32\nRSCDS Book 14\n\n\n\nDance List on Strathspey Server\nDance Cribs
URL:https://rscds-atlanta.org/event/april-social-and-anniversary-luncheon/
LOCATION:St James’ Episcopal Church\, 161 Church St Ne\, Marietta\, US
CATEGORIES:Monthly Socials,Other SCD Events
END:VEVENT
BEGIN:VEVENT
DTSTART;VALUE=DATE:20260417
DTEND;VALUE=DATE:20260420
DTSTAMP:20260423T145652
CREATED:20260208T214525Z
LAST-MODIFIED:20260312T164139Z
UID:24684-1776384000-1776643199@rscds-atlanta.org
SUMMARY:Loch Norman Highland Games
DESCRIPTION:Loch Norman Highland Games are held each April on the ground of Rural Hill plantation in Huntersville\, NC.  There will be dancing Friday and Saturday nights at Hopewell Presbyterian Church (10500 Beatie’s Ford Rd\, Huntersville\, NC).  There will be dancing at the games on Saturday and Sunday.  The dancing is provided by the RSCDS Carolina’s branch. See the  weekend flyer for more details. \nLive music will be provided for the evening dances by Mara Shea and Dean Harington. Cost is $25 if paid by March 31. Cost is $30 after March 31 and at the door. \n  \nFriday Welcome Dance Program\nDance starts at 8pm. \n\n\n\nDance\nSet Size/Shape\nSource\n\n\n\n\nThe Lady Wynd\nJ8x32\nGoldring Graded 2\n\n\nThe Sailor\nR8x32\nBook 24\n\n\nThe Flower of Glasgow\nS3x32\nBook 46\n\n\nThe Shetland Shepherdess\nJ8x32\nRSCDS Graded 3\n\n\nThe Unsung Hero\nR8x32\nLasnik\n\n\nBedrule\nS8x32\nBook 33\n\n\nPolharrow Burn\nR5x32\nGlendarroch SD Sheets\n\n\n————Intermission————-\n\n\nLinton Ploughman\nJ8x32\nBook 5\n\n\nA Trip to Bavaria\nR4x32\nCollins SCD\n\n\nSalute to the Borders\nS8x32\nThree Hands Across\n\n\nQuarries’ Jig\nJ8x32\nBook 36\n\n\nToast to the Mousies\nR8x32\nBook 53\n\n\nMiss Eleanor\nS3x32\nBook 49\n\n\nThe Highlandman Kissed His Mother\nR8x32\nMMM\n\n\n\nFriday Dance List on Strathspey Server \nFriday Dance Cribs \n  \nSaturday Gala Dance Program\nGrand march starts at 7:30pm with dancing immediately following. \n\n\n\nDance\nSet Size/Shape\nSource\n\n\n\n\nJoie de Vivre\nJ8x32\nBook 39\n\n\nMaxwell’s Rant\nR8x32\nBook 18\n\n\nSt. Andrew’s Fair\nJ8x32\nGoldring 5 SCD\n\n\nThe Minister on the Loch\nS3x32\nG&S Dances\n\n\nMajor Ian Stewart\nJ8x32\nBook 35\n\n\nThe Plantation Reel\nR5x32\nPinewoods Collection 2\n\n\nThe Gate of Daffodil Garden\nS8x32\nTokai Branch 25th Anniv.\n\n\nLeft-handed Fiddler\nR8x32\nLasnik\n\n\n————Intermission————-\n\n\nKendall’s Hornpipe\nJ8x32\nGraded SCD\n\n\nThe Bon Viveur\nM4x64\nBook 52\n\n\nA Capital Jig\nJ8x32\n5 Dances 2009\n\n\nChasing the Eclipse\nS3x32\nHighland Road Coll.\n\n\nDuke of Perth\nR8x32\nHighland Road Coll.\n\n\nAdieu Mon Ami\nS8x32\nBook 24\n\n\nJennifer’s jig\nJ8x32\nBook 53\n\n\nTrip to Timber Ridge\nR8x32\nBook 52\n\n\n\nSaturday Dance List on Strathspey Server \nSaturday Dance Cribs
URL:https://rscds-atlanta.org/event/loch-norman-highland-games/
LOCATION:Hopewell Presbyterian Church\, 10500 Beattie's Ford Road\, Charlotte\, North Carolina
CATEGORIES:Highland Games
ORGANIZER;CN="RSCDS Carolinas":MAILTO:thecarolinasbranch@gmail.com
END:VEVENT
BEGIN:VEVENT
DTSTART;TZID=America/New_York:20260509T140000
DTEND;TZID=America/New_York:20260509T170000
DTSTAMP:20260423T145652
CREATED:20260401T142308Z
LAST-MODIFIED:20260401T142308Z
UID:24768-1778335200-1778346000@rscds-atlanta.org
SUMMARY:May 2026 Social
DESCRIPTION:Save the date – more details will be added closer to the day.
URL:https://rscds-atlanta.org/event/may-2026-social/
LOCATION:VA
CATEGORIES:Monthly Socials
END:VEVENT
BEGIN:VEVENT
DTSTART;TZID=America/New_York:20260530T080000
DTEND;TZID=America/New_York:20260530T210000
DTSTAMP:20260423T145652
CREATED:20260312T165046Z
LAST-MODIFIED:20260315T132957Z
UID:24728-1780128000-1780174800@rscds-atlanta.org
SUMMARY:Midway Spring Workshop and Dance 2026
DESCRIPTION:Lexington Scottish Country Dance Society will be having a workshop and dance on Saturday\, May 30\, 2026.  The workshop will take place 2-5pm.  The workshop is for dancers who know the basic steps (skip change\, slip step\, pad de basque\, and strathspey traveling and setting) as well as reels of 3 and 4\, corner figures\, pousette\, and allemande.  There will be a break for dinner which is on your own.  A social dance will begin at 7:30pm. \nTracey Applebee will teaching the workshop.  Tracey is a certified RSCDS teacher who has taught classes and workshops in the US and Canada.  She was raised in Canada and her mother was a certificated teacher as well.  Her parents would have dance parties in the basement to Jimmy Shand recordings.  The family later moved to Detroit where Tracey continued to dance and was encouraged to become a teacher.  She received her full certificate in 1994 at TAC.  She has been actively teaching in the Cincinnati area since.  She is an occupational therapist and able to analyze movements to help people improve and enjoy dancing. \nLive music will be provided during the social dance by Keltricity.  Keltricity is a Celtic World band playing music of Scotland\, Ireland\, Cape Breton\, England\, Brittany\, New England\, etc.  They play for Scottish Country Dances\, English Country Dances\, and other vintage dance groups. \nRegistration should be submitted to Joyce Chase for the workshop and/or dance. Cost is $50 to attend both workshop and dance. Cost is $30 to attend only the workshop or only the dance. Registration should be received by May 15\, 2026. For any questions\, contact Joyce Chase or Robby McCain. Two scholarships are available based on need. \nLocal dancers may be able to provided limited hospitality. Contact Paige Quillen if hospitality is needed. A block of rooms has been held until April 29 at Hampton Inn in Frankfort\, KY for $137 for double queen. Hampton Inn is 15 miles from Midway and can be reached at (502)223-7600. There are a number of bed and breakfast establishments also available in the Midway area. \n\n\n\nDance\nSet/Shape\nSource\n\n\n\n\nHooper’s Jig\n32Jx3\nMMM\n\n\nDelvine Side\n32Rx3\n2nd Graded Dances\n\n\nLass of Richmond Hill\n32Sx3\nRSCDS Book 2\n\n\nKathy’s Facinator\n32Jx3\nRSCDS Book 54\n\n\nMiss Ogilvie’s Fancy\n32Sx3\nRSCDS Book 20\n\n\nPinewoods Reel\n32Sx3\nRSCDS Book 53\n\n\n————-Intermission———–\n\n\nChased Lovers\n32Jx3\nRSCDS Book 53\n\n\nSt. James Courtyard\n32Sx3\nAtlanta 50th Anniv.\n\n\nMagic of Merrill\n32Rx3\nRamshaw\n\n\nBlue Bonnets\n32Jx3\nRSCDS Book 3\n\n\nIndian River Strathspey\n32Sx3 Tri\nSenyk\n\n\nMairi’s Wedding\n40Rx3\nCosh\n\n\n\nDance List on Strathspey Server
URL:https://rscds-atlanta.org/event/midway-spring-workshop-and-dance-2026/
LOCATION:Midway Presbyterian Church\, 103 N. Turner Street\, Midway\, KY\, 40347\, United States
CATEGORIES:Workshop
END:VEVENT
BEGIN:VEVENT
DTSTART;VALUE=DATE:20260605
DTEND;VALUE=DATE:20260608
DTSTAMP:20260423T145652
CREATED:20260208T214833Z
LAST-MODIFIED:20260315T134203Z
UID:24687-1780617600-1780876799@rscds-atlanta.org
SUMMARY:Georgia Mountain Scottish Festival and Highland Games
DESCRIPTION:Georgia Mountain Scottish Festival and Highland Games (formerly Blairsville Games) will be held the first of June.  Dancing will be provided by the branch during the day on the field.  More details will be added as the date approaches.
URL:https://rscds-atlanta.org/event/georgia-mountain-scottish-festival-and-highland-games/
LOCATION:VA
CATEGORIES:Highland Games
END:VEVENT
BEGIN:VEVENT
DTSTART;VALUE=DATE:20260705
DTEND;VALUE=DATE:20260712
DTSTAMP:20260423T145652
CREATED:20260312T164430Z
LAST-MODIFIED:20260312T164835Z
UID:24723-1783209600-1783814399@rscds-atlanta.org
SUMMARY:Blue Ridge Scottish Dance School 2026
DESCRIPTION:Blue Ridge takes place each year the week before Grandfather Mountain Highland Games.  More info will be posted as registration opens.
URL:https://rscds-atlanta.org/event/blue-ridge-scottish-dance-school-2026/
LOCATION:Appalachian State University\, Boone\, NC\, United States
CATEGORIES:Workshop
END:VEVENT
BEGIN:VEVENT
DTSTART;VALUE=DATE:20260710
DTEND;VALUE=DATE:20260713
DTSTAMP:20260423T145652
CREATED:20260312T164711Z
LAST-MODIFIED:20260312T164711Z
UID:24725-1783641600-1783900799@rscds-atlanta.org
SUMMARY:Grandfather Mountain Highland Games 2026
DESCRIPTION:Grandfather Mountain hosts one of the largest Highland Games each year in Linville\, NC.  More details can be found on the games web site and will be added closer to the event.
URL:https://rscds-atlanta.org/event/grandfather-mountain-highland-games-2026/
LOCATION:Grandfather Mountain\, Linville\, NC\, United States
CATEGORIES:Highland Games
ORGANIZER;CN="Grandfather Mountain Highland Games":MAILTO:admin@gmhg.org
END:VEVENT
BEGIN:VEVENT
DTSTART;TZID=America/New_York:20260808T140000
DTEND;TZID=America/New_York:20260808T160000
DTSTAMP:20260423T145652
CREATED:20260413T120002Z
LAST-MODIFIED:20260413T122701Z
UID:24774-1786197600-1786204800@rscds-atlanta.org
SUMMARY:August 2026 Social
DESCRIPTION:More details will be added closer to time.
URL:https://rscds-atlanta.org/event/august-2026-social/
LOCATION:St. James Episcopal Church\, 161 Church St\, Marietta\, GA\, 30060\, US
CATEGORIES:Monthly Socials
END:VEVENT
BEGIN:VEVENT
DTSTART;TZID=America/New_York:20260912T140000
DTEND;TZID=America/New_York:20260912T160000
DTSTAMP:20260423T145652
CREATED:20260413T120150Z
LAST-MODIFIED:20260413T121143Z
UID:24776-1789221600-1789228800@rscds-atlanta.org
SUMMARY:September 2026 Social
DESCRIPTION:More details will be added closer to time.
URL:https://rscds-atlanta.org/event/september-2026-social/
LOCATION:Heritage Baptist Church Cartersville\, 1070 Douthit Ferry Rd.\, Cartersville\, GA\, 30120\, United States
CATEGORIES:Monthly Socials
END:VEVENT
BEGIN:VEVENT
DTSTART;VALUE=DATE:20260918
DTEND;VALUE=DATE:20260921
DTSTAMP:20260423T145652
CREATED:20260413T121830Z
LAST-MODIFIED:20260413T122423Z
UID:24785-1789689600-1789948799@rscds-atlanta.org
SUMMARY:Scottish Weekend 2026
DESCRIPTION:Details are still being published.  Check https://scottishweekend.org/ for the latest.
URL:https://rscds-atlanta.org/event/scottish-weekend-2026/
LOCATION:Camp Saginaw\, 740 Saginaw Road\, Oxfords\, PA\, 19363\, United States
CATEGORIES:Other SCD Events,Workshop
END:VEVENT
BEGIN:VEVENT
DTSTART;VALUE=DATE:20261016
DTEND;VALUE=DATE:20261019
DTSTAMP:20260423T145652
CREATED:20260315T134014Z
LAST-MODIFIED:20260315T134128Z
UID:24734-1792108800-1792367999@rscds-atlanta.org
SUMMARY:Stone Mountain Scottish Games and Festival 2026
DESCRIPTION:Held annually on the 3rd week in October\, the Stone Mountain games is one of the largest in the US.  The field includes a large dance platform where Scottish Country Dancing is provided Saturday and Sunday.  Demonstrations are also provided by branch members.  Dances will be held Friday and Saturday nights at the host hotel\, Hilton Atlanta Northeast (a.k.a. the castle on the hill).  The games has arranged for a special rate for stays between Thursday and Sunday which can be made here:  Hilton Northeast \nThe hotel has sold out the last several years\, so attendees should book as early as possible.  More details about dancing will be updated on the web site closer to the time of the games.
URL:https://rscds-atlanta.org/event/stone-mountain-scottish-games-and-festival-2026/
LOCATION:Hilton Atlanta Northeast Hotel\, 993 Peachtree Industrial Boulevard\, Norcross\, GA\, 30092\, United States
CATEGORIES:Highland Games,Other SCD Events
END:VEVENT
BEGIN:VEVENT
DTSTART;VALUE=DATE:20261106
DTEND;VALUE=DATE:20261109
DTSTAMP:20260423T145652
CREATED:20260413T122338Z
LAST-MODIFIED:20260413T122338Z
UID:24789-1793923200-1794182399@rscds-atlanta.org
SUMMARY:Argyle Weekend 2026
DESCRIPTION:Details are still being finalized.  Check https://www.argyle-weekend.org for the latest.
URL:https://rscds-atlanta.org/event/argyle-weekend-2026/
LOCATION:Trinity Presbyterian Church Arlington\, 5533 North 16th Street\, Arlington\, VA\, 22205\, United States
CATEGORIES:Other SCD Events,Workshop
END:VEVENT
BEGIN:VEVENT
DTSTART;TZID=America/New_York:20261115T143000
DTEND;TZID=America/New_York:20261115T170000
DTSTAMP:20260423T145652
CREATED:20260413T120346Z
LAST-MODIFIED:20260413T120346Z
UID:24778-1794753000-1794762000@rscds-atlanta.org
SUMMARY:November 2026 Social
DESCRIPTION:More details will be added closer to time.
URL:https://rscds-atlanta.org/event/november-2026-social/
LOCATION:Nations Church\, 8780 Macon Highway\, Athens\, GA\, 30606\, United States
CATEGORIES:Monthly Socials
END:VEVENT
BEGIN:VEVENT
DTSTART;TZID=America/New_York:20261121T180000
DTEND;TZID=America/New_York:20261121T210000
DTSTAMP:20260423T145652
CREATED:20260413T120929Z
LAST-MODIFIED:20260413T120929Z
UID:24780-1795284000-1795294800@rscds-atlanta.org
SUMMARY:St. Andrews Day Dance
DESCRIPTION:More details will be added closer to time.
URL:https://rscds-atlanta.org/event/st-andrews-day-dance/
LOCATION:First Presbyterian Church Greensboro\, 617 North Elm Street\, Greensboro\, NC\, 27401\, United States
CATEGORIES:Other SCD Events
ORGANIZER;CN="RSCDS Carolinas":MAILTO:thecarolinasbranch@gmail.com
END:VEVENT
BEGIN:VEVENT
DTSTART;TZID=America/New_York:20261213T143000
DTEND;TZID=America/New_York:20261213T170000
DTSTAMP:20260423T145652
CREATED:20260413T121105Z
LAST-MODIFIED:20260413T121105Z
UID:24783-1797172200-1797181200@rscds-atlanta.org
SUMMARY:December 2026 Social
DESCRIPTION:More details will be added closer to time.
URL:https://rscds-atlanta.org/event/december-2026-social/
LOCATION:Shallowford Presbyterian\, 2375 Shallowford Road\, Atlanta\, GA\, 30345\, United States
CATEGORIES:Monthly Socials
END:VEVENT
END:VCALENDAR