BEGIN:VCALENDAR
VERSION:2.0
PRODID:-//Atlanta Branch - RSCDS - ECPv6.15.20//NONSGML v1.0//EN
CALSCALE:GREGORIAN
METHOD:PUBLISH
X-ORIGINAL-URL:https://rscds-atlanta.org
X-WR-CALDESC:Events for Atlanta Branch - RSCDS
REFRESH-INTERVAL;VALUE=DURATION:PT1H
X-Robots-Tag:noindex
X-PUBLISHED-TTL:PT1H
BEGIN:VTIMEZONE
TZID:America/New_York
BEGIN:DAYLIGHT
TZOFFSETFROM:-0500
TZOFFSETTO:-0400
TZNAME:EDT
DTSTART:20180311T070000
END:DAYLIGHT
BEGIN:STANDARD
TZOFFSETFROM:-0400
TZOFFSETTO:-0500
TZNAME:EST
DTSTART:20181104T060000
END:STANDARD
BEGIN:DAYLIGHT
TZOFFSETFROM:-0500
TZOFFSETTO:-0400
TZNAME:EDT
DTSTART:20190310T070000
END:DAYLIGHT
BEGIN:STANDARD
TZOFFSETFROM:-0400
TZOFFSETTO:-0500
TZNAME:EST
DTSTART:20191103T060000
END:STANDARD
BEGIN:DAYLIGHT
TZOFFSETFROM:-0500
TZOFFSETTO:-0400
TZNAME:EDT
DTSTART:20200308T070000
END:DAYLIGHT
BEGIN:STANDARD
TZOFFSETFROM:-0400
TZOFFSETTO:-0500
TZNAME:EST
DTSTART:20201101T060000
END:STANDARD
BEGIN:DAYLIGHT
TZOFFSETFROM:-0500
TZOFFSETTO:-0400
TZNAME:EDT
DTSTART:20210314T070000
END:DAYLIGHT
BEGIN:STANDARD
TZOFFSETFROM:-0400
TZOFFSETTO:-0500
TZNAME:EST
DTSTART:20211107T060000
END:STANDARD
BEGIN:DAYLIGHT
TZOFFSETFROM:-0500
TZOFFSETTO:-0400
TZNAME:EDT
DTSTART:20220313T070000
END:DAYLIGHT
BEGIN:STANDARD
TZOFFSETFROM:-0400
TZOFFSETTO:-0500
TZNAME:EST
DTSTART:20221106T060000
END:STANDARD
BEGIN:DAYLIGHT
TZOFFSETFROM:-0500
TZOFFSETTO:-0400
TZNAME:EDT
DTSTART:20230312T070000
END:DAYLIGHT
BEGIN:STANDARD
TZOFFSETFROM:-0400
TZOFFSETTO:-0500
TZNAME:EST
DTSTART:20231105T060000
END:STANDARD
END:VTIMEZONE
BEGIN:VEVENT
DTSTART;TZID=America/New_York:20220317T190000
DTEND;TZID=America/New_York:20220317T210000
DTSTAMP:20260424T005711
CREATED:20210726T221535Z
LAST-MODIFIED:20220209T021636Z
UID:18149-1647543600-1647550800@rscds-atlanta.org
SUMMARY:Scottish Country Dancing Class - Update!!
DESCRIPTION:We finally have an update for all of those eager dancers out there. We will begin dancing in earnest after the Stone Mountain Highland Games in October. The games take place October 15-17. Please come to the games to see some demonstrations of what fun we have with Scottish Country Dancing! \nVaccinations will be required for all dancers when we resume classes for the health and safety of everyone involved. Vaccination cards will be required for all dancers to participate. \nThis class is for all levels of dancers. The class meets every Thursday at Nations Church\, 8780 Macon Highway\, Athens\, GA. You don’t need to bring a partner or any special equipment\, except for soft soled shoes and comfortable clothing.
URL:https://rscds-atlanta.org/event/scottish-country-dancing-class-update-68/
LOCATION:Nations Church\, 8780 Macon Hwy\, Athens\, GA\, 30606\, US
CATEGORIES:Classes,Monthly Socials
ATTACH;FMTTYPE=image/jpeg:https://rscds-atlanta.org/wp-content/uploads/2019/11/484_image_highres_485731563.jpeg
END:VEVENT
BEGIN:VEVENT
DTSTART;TZID=America/New_York:20220310T190000
DTEND;TZID=America/New_York:20220310T210000
DTSTAMP:20260424T005711
CREATED:20220205T171558Z
LAST-MODIFIED:20220209T021636Z
UID:23272-1646938800-1646946000@rscds-atlanta.org
SUMMARY:Scottish Country Dancing Class Update
DESCRIPTION:We finally have an update for all of those eager dancers out there. The Marietta Class has resumed but with a change from Tuesday to Thursday evenings. The venue has changed as well and will now take place at St. James Episcopal Church\, 161 Church St. in Marietta. \nVaccinations will be required for all dancers for the health and safety of everyone involved. Vaccination cards will be required for all dancers to participate. \nThis class is for all levels. It is not necessary to bring a partner and no special equipment (other than comfortable clothing and a pair of soft-soled shoes) is required.
URL:https://rscds-atlanta.org/event/scottish-country-dancing-class-update-105/
LOCATION:St. James Episcopal Church\, 161 Church St\, Marietta\, GA\, 30060\, US
CATEGORIES:Classes,Monthly Socials
ATTACH;FMTTYPE=image/jpeg:https://rscds-atlanta.org/wp-content/uploads/2019/11/478_image_highres_485731330.jpeg
END:VEVENT
BEGIN:VEVENT
DTSTART;TZID=America/New_York:20220310T190000
DTEND;TZID=America/New_York:20220310T210000
DTSTAMP:20260424T005711
CREATED:20210726T221534Z
LAST-MODIFIED:20220209T021636Z
UID:18147-1646938800-1646946000@rscds-atlanta.org
SUMMARY:Scottish Country Dancing Class - Update!!
DESCRIPTION:We finally have an update for all of those eager dancers out there. We will begin dancing in earnest after the Stone Mountain Highland Games in October. The games take place October 15-17. Please come to the games to see some demonstrations of what fun we have with Scottish Country Dancing! \nVaccinations will be required for all dancers when we resume classes for the health and safety of everyone involved. Vaccination cards will be required for all dancers to participate. \nThis class is for all levels of dancers. The class meets every Thursday at Nations Church\, 8780 Macon Highway\, Athens\, GA. You don’t need to bring a partner or any special equipment\, except for soft soled shoes and comfortable clothing.
URL:https://rscds-atlanta.org/event/scottish-country-dancing-class-update-66/
LOCATION:Nations Church\, 8780 Macon Hwy\, Athens\, GA\, 30606\, US
CATEGORIES:Classes,Monthly Socials
ATTACH;FMTTYPE=image/jpeg:https://rscds-atlanta.org/wp-content/uploads/2019/11/484_image_highres_485731563.jpeg
END:VEVENT
BEGIN:VEVENT
DTSTART;TZID=America/New_York:20220303T190000
DTEND;TZID=America/New_York:20220303T210000
DTSTAMP:20260424T005711
CREATED:20220205T171557Z
LAST-MODIFIED:20220209T021636Z
UID:23271-1646334000-1646341200@rscds-atlanta.org
SUMMARY:Scottish Country Dancing Class Update
DESCRIPTION:We finally have an update for all of those eager dancers out there. The Marietta Class has resumed but with a change from Tuesday to Thursday evenings. The venue has changed as well and will now take place at St. James Episcopal Church\, 161 Church St. in Marietta. \nVaccinations will be required for all dancers for the health and safety of everyone involved. Vaccination cards will be required for all dancers to participate. \nThis class is for all levels. It is not necessary to bring a partner and no special equipment (other than comfortable clothing and a pair of soft-soled shoes) is required.
URL:https://rscds-atlanta.org/event/scottish-country-dancing-class-update-104/
LOCATION:St. James Episcopal Church\, 161 Church St\, Marietta\, GA\, 30060\, US
CATEGORIES:Classes,Monthly Socials
ATTACH;FMTTYPE=image/jpeg:https://rscds-atlanta.org/wp-content/uploads/2019/11/478_image_highres_485731330.jpeg
END:VEVENT
BEGIN:VEVENT
DTSTART;TZID=America/New_York:20220224T190000
DTEND;TZID=America/New_York:20220224T210000
DTSTAMP:20260424T005711
CREATED:20220205T171557Z
LAST-MODIFIED:20220209T021636Z
UID:23270-1645729200-1645736400@rscds-atlanta.org
SUMMARY:Scottish Country Dancing Class Update
DESCRIPTION:We finally have an update for all of those eager dancers out there. The Marietta Class has resumed but with a change from Tuesday to Thursday evenings. The venue has changed as well and will now take place at St. James Episcopal Church\, 161 Church St. in Marietta. \nVaccinations will be required for all dancers for the health and safety of everyone involved. Vaccination cards will be required for all dancers to participate. \nThis class is for all levels. It is not necessary to bring a partner and no special equipment (other than comfortable clothing and a pair of soft-soled shoes) is required.
URL:https://rscds-atlanta.org/event/scottish-country-dancing-class-update-103/
LOCATION:St. James Episcopal Church\, 161 Church St\, Marietta\, GA\, 30060\, US
CATEGORIES:Classes,Monthly Socials
ATTACH;FMTTYPE=image/jpeg:https://rscds-atlanta.org/wp-content/uploads/2019/11/478_image_highres_485731330.jpeg
END:VEVENT
BEGIN:VEVENT
DTSTART;TZID=America/New_York:20220224T190000
DTEND;TZID=America/New_York:20220224T210000
DTSTAMP:20260424T005711
CREATED:20220205T171557Z
LAST-MODIFIED:20220209T021636Z
UID:23269-1645729200-1645736400@rscds-atlanta.org
SUMMARY:Scottish Country Dancing Class Update
DESCRIPTION:We finally have an update for all of those eager dancers out there. The Marietta Class has resumed but with a change from Tuesday to Thursday evenings. The venue has changed as well and will now take place at St. James Episcopal Church\, 161 Church St. in Marietta. \nVaccinations will be required for all dancers for the health and safety of everyone involved. Vaccination cards will be required for all dancers to participate. \nThis class is for all levels. It is not necessary to bring a partner and no special equipment (other than comfortable clothing and a pair of soft-soled shoes) is required.
URL:https://rscds-atlanta.org/event/scottish-country-dancing-class-update-57/
LOCATION:St. James Episcopal Church\, 161 Church St\, Marietta\, GA\, 30060\, US
CATEGORIES:Classes,Monthly Socials
ATTACH;FMTTYPE=image/jpeg:https://rscds-atlanta.org/wp-content/uploads/2019/11/478_image_highres_485731330.jpeg
END:VEVENT
BEGIN:VEVENT
DTSTART;TZID=America/New_York:20220224T190000
DTEND;TZID=America/New_York:20220224T210000
DTSTAMP:20260424T005711
CREATED:20210726T221533Z
LAST-MODIFIED:20220209T021636Z
UID:18143-1645729200-1645736400@rscds-atlanta.org
SUMMARY:Scottish Country Dancing Class - Update!!
DESCRIPTION:We finally have an update for all of those eager dancers out there. We will begin dancing in earnest after the Stone Mountain Highland Games in October. The games take place October 15-17. Please come to the games to see some demonstrations of what fun we have with Scottish Country Dancing! \nVaccinations will be required for all dancers when we resume classes for the health and safety of everyone involved. Vaccination cards will be required for all dancers to participate. \nThis class is for all levels of dancers. The class meets every Thursday at Nations Church\, 8780 Macon Highway\, Athens\, GA. You don’t need to bring a partner or any special equipment\, except for soft soled shoes and comfortable clothing.
URL:https://rscds-atlanta.org/event/scottish-country-dancing-class-update-62/
LOCATION:Nations Church\, 8780 Macon Hwy\, Athens\, GA\, 30606\, US
CATEGORIES:Classes,Monthly Socials
ATTACH;FMTTYPE=image/jpeg:https://rscds-atlanta.org/wp-content/uploads/2019/11/484_image_highres_485731563.jpeg
END:VEVENT
BEGIN:VEVENT
DTSTART;TZID=America/New_York:20220217T190000
DTEND;TZID=America/New_York:20220217T210000
DTSTAMP:20260424T005711
CREATED:20220205T171556Z
LAST-MODIFIED:20220209T021636Z
UID:23268-1645124400-1645131600@rscds-atlanta.org
SUMMARY:Scottish Country Dancing Class Update
DESCRIPTION:We finally have an update for all of those eager dancers out there. The Marietta Class has resumed but with a change from Tuesday to Thursday evenings. The venue has changed as well and will now take place at St. James Episcopal Church\, 161 Church St. in Marietta. \nVaccinations will be required for all dancers for the health and safety of everyone involved. Vaccination cards will be required for all dancers to participate. \nThis class is for all levels. It is not necessary to bring a partner and no special equipment (other than comfortable clothing and a pair of soft-soled shoes) is required.
URL:https://rscds-atlanta.org/event/scottish-country-dancing-class-update-56/
LOCATION:St. James Episcopal Church\, 161 Church St\, Marietta\, GA\, 30060\, US
CATEGORIES:Classes,Monthly Socials
ATTACH;FMTTYPE=image/jpeg:https://rscds-atlanta.org/wp-content/uploads/2019/11/478_image_highres_485731330.jpeg
END:VEVENT
BEGIN:VEVENT
DTSTART;TZID=America/New_York:20220217T190000
DTEND;TZID=America/New_York:20220217T210000
DTSTAMP:20260424T005711
CREATED:20210726T221532Z
LAST-MODIFIED:20220209T021636Z
UID:18141-1645124400-1645131600@rscds-atlanta.org
SUMMARY:Scottish Country Dancing Class - Update!!
DESCRIPTION:We finally have an update for all of those eager dancers out there. We will begin dancing in earnest after the Stone Mountain Highland Games in October. The games take place October 15-17. Please come to the games to see some demonstrations of what fun we have with Scottish Country Dancing! \nVaccinations will be required for all dancers when we resume classes for the health and safety of everyone involved. Vaccination cards will be required for all dancers to participate. \nThis class is for all levels of dancers. The class meets every Thursday at Nations Church\, 8780 Macon Highway\, Athens\, GA. You don’t need to bring a partner or any special equipment\, except for soft soled shoes and comfortable clothing.
URL:https://rscds-atlanta.org/event/scottish-country-dancing-class-update-60/
LOCATION:Nations Church\, 8780 Macon Hwy\, Athens\, GA\, 30606\, US
CATEGORIES:Classes,Monthly Socials
ATTACH;FMTTYPE=image/jpeg:https://rscds-atlanta.org/wp-content/uploads/2019/11/484_image_highres_485731563.jpeg
END:VEVENT
BEGIN:VEVENT
DTSTART;TZID=America/New_York:20220210T190000
DTEND;TZID=America/New_York:20220210T210000
DTSTAMP:20260424T005711
CREATED:20220205T171555Z
LAST-MODIFIED:20220209T021635Z
UID:23267-1644519600-1644526800@rscds-atlanta.org
SUMMARY:Scottish Country Dancing Class Update
DESCRIPTION:We finally have an update for all of those eager dancers out there. The Marietta Class has resumed but with a change from Tuesday to Thursday evenings. The venue has changed as well and will now take place at St. James Episcopal Church\, 161 Church St. in Marietta. \nVaccinations will be required for all dancers for the health and safety of everyone involved. Vaccination cards will be required for all dancers to participate. \nThis class is for all levels. It is not necessary to bring a partner and no special equipment (other than comfortable clothing and a pair of soft-soled shoes) is required.
URL:https://rscds-atlanta.org/event/scottish-country-dancing-class-update-55/
LOCATION:St. James Episcopal Church\, 161 Church St\, Marietta\, GA\, 30060\, US
CATEGORIES:Classes,Monthly Socials
ATTACH;FMTTYPE=image/jpeg:https://rscds-atlanta.org/wp-content/uploads/2019/11/478_image_highres_485731330.jpeg
END:VEVENT
BEGIN:VEVENT
DTSTART;TZID=America/New_York:20220210T190000
DTEND;TZID=America/New_York:20220210T210000
DTSTAMP:20260424T005711
CREATED:20210726T221531Z
LAST-MODIFIED:20220209T021636Z
UID:18139-1644519600-1644526800@rscds-atlanta.org
SUMMARY:Scottish Country Dancing Class - Update!!
DESCRIPTION:We finally have an update for all of those eager dancers out there. We will begin dancing in earnest after the Stone Mountain Highland Games in October. The games take place October 15-17. Please come to the games to see some demonstrations of what fun we have with Scottish Country Dancing! \nVaccinations will be required for all dancers when we resume classes for the health and safety of everyone involved. Vaccination cards will be required for all dancers to participate. \nThis class is for all levels of dancers. The class meets every Thursday at Nations Church\, 8780 Macon Highway\, Athens\, GA. You don’t need to bring a partner or any special equipment\, except for soft soled shoes and comfortable clothing.
URL:https://rscds-atlanta.org/event/scottish-country-dancing-class-update-58/
LOCATION:Nations Church\, 8780 Macon Hwy\, Athens\, GA\, 30606\, US
CATEGORIES:Classes,Monthly Socials
ATTACH;FMTTYPE=image/jpeg:https://rscds-atlanta.org/wp-content/uploads/2019/11/484_image_highres_485731563.jpeg
END:VEVENT
BEGIN:VEVENT
DTSTART;TZID=America/New_York:20191109T140000
DTEND;TZID=America/New_York:20191109T170000
DTSTAMP:20260424T005711
CREATED:20191027T234854Z
LAST-MODIFIED:20191111T032200Z
UID:118-1573308000-1573318800@rscds-atlanta.org
SUMMARY:November Social - Regency / Scottish Country Dancing
DESCRIPTION:Join us at our November Social\, featuring dances from the Eighteenth Century!\nYou are most cordially invited to a Scottish / Regency Era Dance from 2:00pm – 5:00pm on Saturday\, November 9\, 2019\, at St. Bede’s Episcopal at 2601 Henderson Mill Rd\, Atlanta\, GA 30345.  This special dance social will be held by the Atlanta Branch of the Royal Scottish Country Dance Society\, in concert with with Atlanta Baroque Dance\, and will feature some of the most popular Scottish dances from the late Eighteenth and early Nineteenth centuries\, including The Haymakers\, Monymusk\, The Machine Without Horses\,  Seann Truibhas Willichan\, and The Frisky.  The majority of dances are friendly for those with less dance experience.  Social Flyer and Cheat Sheet are both attached.\nJoin us and dance the afternoon away in Regency splendor!  The cost is $8 for admission ($5 for RSCDS members)\, and you are invited to bring finger foods or other light refreshments to share at intermission; Regency attire\, or traditional Scottish Highland attire (including kilts for men) is *highly* encouraged.\nNovember_Social_ 2019_Flyer\nNovember_Social_2019_Cheat_Sheet
URL:https://rscds-atlanta.org/event/november-social/
LOCATION:St. Bede’s Episcopal Church\, 2601 Henderson Mill Road\, Atlanta\, Ga\, 30345\, United States
CATEGORIES:Monthly Socials
END:VEVENT
END:VCALENDAR