BEGIN:VCALENDAR
VERSION:2.0
PRODID:-//Atlanta Branch - RSCDS - ECPv6.15.20//NONSGML v1.0//EN
CALSCALE:GREGORIAN
METHOD:PUBLISH
X-WR-CALNAME:Atlanta Branch - RSCDS
X-ORIGINAL-URL:https://rscds-atlanta.org
X-WR-CALDESC:Events for Atlanta Branch - RSCDS
REFRESH-INTERVAL;VALUE=DURATION:PT1H
X-Robots-Tag:noindex
X-PUBLISHED-TTL:PT1H
BEGIN:VTIMEZONE
TZID:America/New_York
BEGIN:DAYLIGHT
TZOFFSETFROM:-0500
TZOFFSETTO:-0400
TZNAME:EDT
DTSTART:20250309T070000
END:DAYLIGHT
BEGIN:STANDARD
TZOFFSETFROM:-0400
TZOFFSETTO:-0500
TZNAME:EST
DTSTART:20251102T060000
END:STANDARD
BEGIN:DAYLIGHT
TZOFFSETFROM:-0500
TZOFFSETTO:-0400
TZNAME:EDT
DTSTART:20260308T070000
END:DAYLIGHT
BEGIN:STANDARD
TZOFFSETFROM:-0400
TZOFFSETTO:-0500
TZNAME:EST
DTSTART:20261101T060000
END:STANDARD
BEGIN:DAYLIGHT
TZOFFSETFROM:-0500
TZOFFSETTO:-0400
TZNAME:EDT
DTSTART:20270314T070000
END:DAYLIGHT
BEGIN:STANDARD
TZOFFSETFROM:-0400
TZOFFSETTO:-0500
TZNAME:EST
DTSTART:20271107T060000
END:STANDARD
END:VTIMEZONE
BEGIN:VEVENT
DTSTART;TZID=America/New_York:20260411T120000
DTEND;TZID=America/New_York:20260411T150000
DTSTAMP:20260423T120514
CREATED:20260217T171424Z
LAST-MODIFIED:20260324T132532Z
UID:24709-1775908800-1775919600@rscds-atlanta.org
SUMMARY:April Social and Anniversary Luncheon
DESCRIPTION:  \nHello Dancers! \nThe Atlanta Branch of the Royal Scottish Country Dance Society is proud to celebrate it’s 50th anniversary this year! Since 1976\, we have all enjoyed the dancing\, but more importantly\, the laughter\, fellowship\, and fun\, that have followed. \nJust a few short weeks ago many of us danced together at the annual Spring Workshop\, made special with some added anniversary festivities. It was a wonderful event\, and we feel so grateful to everyone who attended and contributed to making it so successful. We approached 100 dancers\, unveiled our 50th anniversary book\, and connected with friends from far and near. \nTo continue our year of celebrations\, we are planning an Anniversary Luncheon\, and you are invited! In lieu of our normal April Social\, we will be hosting an extended event. We will meet in the fellowship hall at St. James’ Episcopal Church in Marietta at noon. The branch will be providing lunch\, and the normal social fee is waived for the occasion. We are hoping that any Atlanta dancer from the past 50 years will join us for the camaraderie. If you know any current or former dancers from the area\, please pass the invite along! \nAfter lunch\, we are hosting a social dance. The program\, devised by Susan Tumlin and Bob Messner\, features walkable dances\, old favorites\, and some new offerings from our 50th anniversary book (which will be available for anyone wanting to collect). Whether you choose to dance\, walk\, or watch\, it should be an enjoyable afternoon for everyone. \nWhile the Spring Workshop was a grand affair\, we are hoping this luncheon will provide a more intimate environment for Atlanta dancers to reconnect\, laugh\, and share memories. Whether it’s been a while since we’ve seen you or we saw you last week\, we hope you will attend- your presence is the best anniversary present! \nTo RSVP\, please contact Sylvia Priest by email (sapriest@comcast.net) \n  \n  \n\n\n\nDance\nSet/Size\nSource\n\n\n\n\nFriends: The Moth\, The Bat\, and the Pine Tree\nR8x32\nDeNeergaard\n\n\nSt. Andrew’s Fair\nJ8x32\nGoldring\n\n\nHooper’s Jig\nJ8x32\nMMM\n\n\nThe Byron Strathspey\nS3x32\nDeeside Book\, Part 2\n\n\nSylvia\, Priestess of Atlanta\nR8x32\nAtlanta 50th Anniv.\n\n\nThe White Heather Jig\nJ4x40\nBook 22\n\n\nThe White Heather Jig\nJ4x40\n22 Scottish Country Dances\n\n\nSugar Candie\nS8x32\nBook 26\n\n\nMairi’s Wedding\nR8x40\n22 Scottish Country Dances\n\n\n————-Intermission / Cake Break————-\n\n\nDr. Ligon of Marietta\nR8x40\nAtlanta 50th Anniv.\n\n\nThe Wild Geese\nJ8x32\nRSCDS Book 24\n\n\nThe Balgeddie Reel\nR5x32\nMemories of Fife\n\n\nCulla Bay\nS4x32 Sq.\nRSCDS Book 41\n\n\nJoined at the Hip\nR8x32\nAtlanta 50th Anniv.\n\n\nThe Deil amang the Tailors\nR8x32\nRSCDS Book 14\n\n\n\nDance List on Strathspey Server\nDance Cribs
URL:https://rscds-atlanta.org/event/april-social-and-anniversary-luncheon/
LOCATION:St James’ Episcopal Church\, 161 Church St Ne\, Marietta\, US
CATEGORIES:Monthly Socials,Other SCD Events
END:VEVENT
END:VCALENDAR