BEGIN:VCALENDAR
VERSION:2.0
PRODID:-//Atlanta Branch - RSCDS - ECPv6.15.20//NONSGML v1.0//EN
CALSCALE:GREGORIAN
METHOD:PUBLISH
X-ORIGINAL-URL:https://rscds-atlanta.org
X-WR-CALDESC:Events for Atlanta Branch - RSCDS
REFRESH-INTERVAL;VALUE=DURATION:PT1H
X-Robots-Tag:noindex
X-PUBLISHED-TTL:PT1H
BEGIN:VTIMEZONE
TZID:America/New_York
BEGIN:DAYLIGHT
TZOFFSETFROM:-0500
TZOFFSETTO:-0400
TZNAME:EDT
DTSTART:20220313T070000
END:DAYLIGHT
BEGIN:STANDARD
TZOFFSETFROM:-0400
TZOFFSETTO:-0500
TZNAME:EST
DTSTART:20221106T060000
END:STANDARD
BEGIN:DAYLIGHT
TZOFFSETFROM:-0500
TZOFFSETTO:-0400
TZNAME:EDT
DTSTART:20230312T070000
END:DAYLIGHT
BEGIN:STANDARD
TZOFFSETFROM:-0400
TZOFFSETTO:-0500
TZNAME:EST
DTSTART:20231105T060000
END:STANDARD
BEGIN:DAYLIGHT
TZOFFSETFROM:-0500
TZOFFSETTO:-0400
TZNAME:EDT
DTSTART:20240310T070000
END:DAYLIGHT
BEGIN:STANDARD
TZOFFSETFROM:-0400
TZOFFSETTO:-0500
TZNAME:EST
DTSTART:20241103T060000
END:STANDARD
END:VTIMEZONE
BEGIN:VEVENT
DTSTART;VALUE=DATE:20231020
DTEND;VALUE=DATE:20231023
DTSTAMP:20260426T002217
CREATED:20230108T155632Z
LAST-MODIFIED:20230108T155632Z
UID:23782-1697760000-1698019199@rscds-atlanta.org
SUMMARY:2023 Stone Mountain Highland Games
DESCRIPTION:Stone Mountain Games are held every third weekend of October.  Stone Mountain is one of the largest games in the US.  The games are held in beautiful Stone Mountain park just outside of Atlanta.  The host hotel is Hilton Atlanta Northeast (“Castle on the Hill”) in Peachtree Corners\, Norcross\, GA.  Dancing will be held on Friday and Saturday evenings at the host hotel.  There will also be dancing on the field Saturday and Sunday.  More details will be provided as the dates approach.
URL:https://rscds-atlanta.org/event/2023-stone-mountain-highland-games/
LOCATION:Stone Mountain Park\, Stone Mountain\, GA\, 30086\, United States
CATEGORIES:Highland Games
END:VEVENT
END:VCALENDAR