BEGIN:VCALENDAR
VERSION:2.0
PRODID:-//Atlanta Branch - RSCDS - ECPv6.15.20//NONSGML v1.0//EN
CALSCALE:GREGORIAN
METHOD:PUBLISH
X-WR-CALNAME:Atlanta Branch - RSCDS
X-ORIGINAL-URL:https://rscds-atlanta.org
X-WR-CALDESC:Events for Atlanta Branch - RSCDS
REFRESH-INTERVAL;VALUE=DURATION:PT1H
X-Robots-Tag:noindex
X-PUBLISHED-TTL:PT1H
BEGIN:VTIMEZONE
TZID:America/New_York
BEGIN:DAYLIGHT
TZOFFSETFROM:-0500
TZOFFSETTO:-0400
TZNAME:EDT
DTSTART:20240310T070000
END:DAYLIGHT
BEGIN:STANDARD
TZOFFSETFROM:-0400
TZOFFSETTO:-0500
TZNAME:EST
DTSTART:20241103T060000
END:STANDARD
BEGIN:DAYLIGHT
TZOFFSETFROM:-0500
TZOFFSETTO:-0400
TZNAME:EDT
DTSTART:20250309T070000
END:DAYLIGHT
BEGIN:STANDARD
TZOFFSETFROM:-0400
TZOFFSETTO:-0500
TZNAME:EST
DTSTART:20251102T060000
END:STANDARD
BEGIN:DAYLIGHT
TZOFFSETFROM:-0500
TZOFFSETTO:-0400
TZNAME:EDT
DTSTART:20260308T070000
END:DAYLIGHT
BEGIN:STANDARD
TZOFFSETFROM:-0400
TZOFFSETTO:-0500
TZNAME:EST
DTSTART:20261101T060000
END:STANDARD
END:VTIMEZONE
BEGIN:VEVENT
DTSTART;TZID=America/New_York:20250411T200000
DTEND;TZID=America/New_York:20250412T230000
DTSTAMP:20260424T120651
CREATED:20240211T192413Z
LAST-MODIFIED:20250111T011448Z
UID:24008-1744401600-1744498800@rscds-atlanta.org
SUMMARY:Loch Norman Highland Games & Scottish Country Dances
DESCRIPTION:Live music will be provided by Elissa Hock-Wimmer and Arthur McNair. Dancing will be held at Hopewell Presbyterian Church\, 10500 Beattie’s Ford Road\, Huntersville\, NC. A special rate has been negotiated with Drury Inn at 6920 Northlake Mall Dr.\, Charlotte\, NC for accommodations. See flyer for full details. Cost is $30 for each dancer and dance at the door or $25 in advance by March 31. \nThe programs for Friday and Saturday are below. Also provided are links to crib sheets and dance lists on strathspey server. \nFriday – Arthur Baum\nGranville Market Elinor Vandergrift J8x32\nMonymusk RSCDS S8x32\nArthur’s Seat McConachie R8x32\nPortincaple Oak RSCDS Bk 53 M8x32\nLinton Ploughman RSCDS Bk5 J3x32\nThe Anthenaeum Glasgow 100 S3x32\nThe Mason’s Apron Border Dance Bk R8x32\n————\nMrs. Stewart;s Jig RSCDS Bk 35 J8x32\nMary Erskine RSCDS Gr 2 R8x32\nThe Lammermuir Hills Auld Friends Meet S8x32\nTribute to the Borders RSCDS Leaf J8x32\nJohn of Bon Accord RSCDS Bk 33 J8x32\nCity of Belfast RSCDS Bk 48 S3x32\nThe Deil Amang the Tailors RSCDS Bk 14 R8x32 \nSaturday – Brian Carr\nGood Hearted Glasgow Knapman J8x32\nThe Sailor RSCDS 24 R8x32\nThe Gentleman RSCDS Bk 35 S8x32\nThe Australian Ladies Glasgow Assem R8x32\nThe Compleat Gardner RSCDS Gr 3 J8x32\nForget Me Knot Thistle XXX S3x32\nThe Castle of Mey RSCDS Diamond R8x32\nPostie’s Jig Ormskirk 5 J4x32\n———-\nGaelforce Wind Carnforth J8x32\nCraigleith RSCDS Gr 3 R88Sq.\nSomething in the Air RSCDS Bk 53 S6x32\nToast to the Mousies RSCDS Bk 53 R8x32\nCity Lights RSCDS Bk 52 J8x32\nChasing the Eclipse Highland Road Coll S3x32\nThe Laird of Milton’s Daugh. RSCDS 22 J8x32\nReel of the Royal Scots RSCDS Leaf R8x32 \nFlyer\nFriday Dance List\nSaturday Dance List \nSponsorships are appreciated for the dance: \n\n$10-49 = Gentle Lamb\n$50-99 = Highland Coo\n$100+ = Rampant Lion\n\nFor more information\, please visit the Greensboro Scottish Country Dance Society site: https://gsoscds.org/upcoming-dances/
URL:https://rscds-atlanta.org/event/loch-norman-highland-games-scottish-country-dances/
LOCATION:Hopewell Presbyterian Church\, 10500 Beattie's Ford Road\, Charlotte\, North Carolina
CATEGORIES:Highland Games,Other SCD Events
ORGANIZER;CN="RSCDS Carolinas":MAILTO:thecarolinasbranch@gmail.com
END:VEVENT
END:VCALENDAR