BEGIN:VCALENDAR
VERSION:2.0
PRODID:-//Atlanta Branch - RSCDS - ECPv6.15.20//NONSGML v1.0//EN
CALSCALE:GREGORIAN
METHOD:PUBLISH
X-WR-CALNAME:Atlanta Branch - RSCDS
X-ORIGINAL-URL:https://rscds-atlanta.org
X-WR-CALDESC:Events for Atlanta Branch - RSCDS
REFRESH-INTERVAL;VALUE=DURATION:PT1H
X-Robots-Tag:noindex
X-PUBLISHED-TTL:PT1H
BEGIN:VTIMEZONE
TZID:America/New_York
BEGIN:DAYLIGHT
TZOFFSETFROM:-0500
TZOFFSETTO:-0400
TZNAME:EDT
DTSTART:20240310T070000
END:DAYLIGHT
BEGIN:STANDARD
TZOFFSETFROM:-0400
TZOFFSETTO:-0500
TZNAME:EST
DTSTART:20241103T060000
END:STANDARD
BEGIN:DAYLIGHT
TZOFFSETFROM:-0500
TZOFFSETTO:-0400
TZNAME:EDT
DTSTART:20250309T070000
END:DAYLIGHT
BEGIN:STANDARD
TZOFFSETFROM:-0400
TZOFFSETTO:-0500
TZNAME:EST
DTSTART:20251102T060000
END:STANDARD
BEGIN:DAYLIGHT
TZOFFSETFROM:-0500
TZOFFSETTO:-0400
TZNAME:EDT
DTSTART:20260308T070000
END:DAYLIGHT
BEGIN:STANDARD
TZOFFSETFROM:-0400
TZOFFSETTO:-0500
TZNAME:EST
DTSTART:20261101T060000
END:STANDARD
END:VTIMEZONE
BEGIN:VEVENT
DTSTART;VALUE=DATE:20250517
DTEND;VALUE=DATE:20250519
DTSTAMP:20260424T051745
CREATED:20241119T143152Z
LAST-MODIFIED:20241119T143152Z
UID:24223-1747440000-1747612799@rscds-atlanta.org
SUMMARY:2025 Smoky Mountain Scottish Festival & Games
DESCRIPTION:More details will be posted closer to time.  See games website for full schedule.
URL:https://rscds-atlanta.org/event/2025-smsfg/
LOCATION:Blount Partnership Townsend Visitors Center\, 7906 East Lamar Alexander Parkway\, Townsend\, TN\, 37882\, United States
END:VEVENT
END:VCALENDAR